BEGIN:VCALENDAR
VERSION:2.0
PRODID:-//Harbur Realty - ECPv6.15.20//NONSGML v1.0//EN
CALSCALE:GREGORIAN
METHOD:PUBLISH
X-ORIGINAL-URL:https://harburrealty.com
X-WR-CALDESC:Events for Harbur Realty
REFRESH-INTERVAL;VALUE=DURATION:PT1H
X-Robots-Tag:noindex
X-PUBLISHED-TTL:PT1H
BEGIN:VTIMEZONE
TZID:America/Chicago
BEGIN:DAYLIGHT
TZOFFSETFROM:-0600
TZOFFSETTO:-0500
TZNAME:CDT
DTSTART:20230312T080000
END:DAYLIGHT
BEGIN:STANDARD
TZOFFSETFROM:-0500
TZOFFSETTO:-0600
TZNAME:CST
DTSTART:20231105T070000
END:STANDARD
BEGIN:DAYLIGHT
TZOFFSETFROM:-0600
TZOFFSETTO:-0500
TZNAME:CDT
DTSTART:20240310T080000
END:DAYLIGHT
BEGIN:STANDARD
TZOFFSETFROM:-0500
TZOFFSETTO:-0600
TZNAME:CST
DTSTART:20241103T070000
END:STANDARD
BEGIN:DAYLIGHT
TZOFFSETFROM:-0600
TZOFFSETTO:-0500
TZNAME:CDT
DTSTART:20250309T080000
END:DAYLIGHT
BEGIN:STANDARD
TZOFFSETFROM:-0500
TZOFFSETTO:-0600
TZNAME:CST
DTSTART:20251102T070000
END:STANDARD
BEGIN:DAYLIGHT
TZOFFSETFROM:-0600
TZOFFSETTO:-0500
TZNAME:CDT
DTSTART:20260308T080000
END:DAYLIGHT
BEGIN:STANDARD
TZOFFSETFROM:-0500
TZOFFSETTO:-0600
TZNAME:CST
DTSTART:20261101T070000
END:STANDARD
END:VTIMEZONE
BEGIN:VEVENT
DTSTART;TZID=America/Chicago:20250130T090000
DTEND;TZID=America/Chicago:20250130T103000
DTSTAMP:20260421T113122
CREATED:20241125T204345Z
LAST-MODIFIED:20250109T132746Z
UID:1504-1738227600-1738233000@harburrealty.com
SUMMARY:Business Network International in Collierville
DESCRIPTION:Please come as MY GUEST. Just contact me for directions and updates. 9:00AM – 10:30AM\n(Located on the ground floor of Collierville United Methodist Church near the Farmer’s Market\n(Bring your shopping bags to visit the Farmer’s Market\, too!) \n\nMeets weekly  \nText Sherry at 901-496-8193 for the registration link
URL:https://harburrealty.com/event/business-network-international-in-collierville-20/
LOCATION:Collierville United Methodist Church\, 454 West Poplar Avenue\, Collierville\, TN\, 38017\, United States
CATEGORIES:Community Event,Sherry Harbur @ event
ATTACH;FMTTYPE=image/png:https://harburrealty.com/wp-content/uploads/2024/11/BNI.png
END:VEVENT
BEGIN:VEVENT
DTSTART;VALUE=DATE:20240913
DTEND;VALUE=DATE:20241101
DTSTAMP:20260421T113122
CREATED:20240711T140036Z
LAST-MODIFIED:20240925T201327Z
UID:1383-1726185600-1730419199@harburrealty.com
SUMMARY:Mid-South Corn Maze
DESCRIPTION: Agricenter International. Thur. & Fri. 4-10 p.m.\, Sat. noon10 p.m.\, Sun. noon-8 p.m. Regular $12 for ages 13 and up\, $8 for ages 6- 12. Haunted maze starting Oct. 5: $20 for all ages\, starting at 7 p.m. on Fri. & Sat. in October. Wednesday in October are family nights and includes a hayride and bonfire. Advance tickets at midsouthmaze.com. 7777 Walnut Grove Rd. (Courtesy of The Best Times Magazine)
URL:https://harburrealty.com/event/business-network-international-in-collierville-5/
LOCATION:TN
CATEGORIES:Sherry Harbur @ event
END:VEVENT
BEGIN:VEVENT
DTSTART;TZID=America/Chicago:20240718T090000
DTEND;TZID=America/Chicago:20240718T103000
DTSTAMP:20260421T113122
CREATED:20240702T064820Z
LAST-MODIFIED:20240702T070815Z
UID:1387-1721293200-1721298600@harburrealty.com
SUMMARY:Business Network International in Collierville
DESCRIPTION:Sherry Harbur is the speaker for this event!!! \nJust contact me (Sherry) for directions and updates. 9:00AM – 10:30AM\n(Located on the ground floor of Collierville United Methodist Church near the Farmer’s Market\n(Bring your shopping bags to visit the Farmer’s Market\, too!)
URL:https://harburrealty.com/event/business-network-international-in-collierville-8/
LOCATION:Collierville United Methodist Church\, 454 West Poplar Avenue\, Collierville\, TN\, 38017\, United States
CATEGORIES:Sherry Harbur @ event
END:VEVENT
BEGIN:VEVENT
DTSTART;TZID=America/Chicago:20240711T090000
DTEND;TZID=America/Chicago:20240711T103000
DTSTAMP:20260421T113122
CREATED:20240718T140019Z
LAST-MODIFIED:20240702T065240Z
UID:1380-1720688400-1720693800@harburrealty.com
SUMMARY:Business Network International in Collierville
DESCRIPTION:Please come as MY GUEST. Just contact me for directions and updates.\n9:00AM – 10:30AM (Located on the ground floor of Collierville United Methodist Church near the Farmer’s Market\n(Bring your shopping bags to visit the Farmer’s Market\, too!)
URL:https://harburrealty.com/event/business-network-international-in-collierville-4/
LOCATION:Collierville United Methodist Church\, 454 West Poplar Avenue\, Collierville\, TN\, 38017\, United States
CATEGORIES:Sherry Harbur @ event
END:VEVENT
BEGIN:VEVENT
DTSTART;TZID=America/Chicago:20240711T090000
DTEND;TZID=America/Chicago:20240711T103000
DTSTAMP:20260421T113122
CREATED:20240702T065412Z
LAST-MODIFIED:20240702T065412Z
UID:1393-1720688400-1720693800@harburrealty.com
SUMMARY:Business Network International in Collierville
DESCRIPTION:Please come as MY GUEST. Just contact me for directions and updates.\n9:00AM – 10:30AM (Located on the ground floor of Collierville United Methodist Church near the Farmer’s Market\n(Bring your shopping bags to visit the Farmer’s Market\, too!)
URL:https://harburrealty.com/event/business-network-international-in-collierville-9/
LOCATION:Collierville United Methodist Church\, 454 West Poplar Avenue\, Collierville\, TN\, 38017\, United States
CATEGORIES:Sherry Harbur @ event
END:VEVENT
BEGIN:VEVENT
DTSTART;TZID=America/Chicago:20240620T090000
DTEND;TZID=America/Chicago:20240620T103000
DTSTAMP:20260421T113122
CREATED:20240725T140040Z
LAST-MODIFIED:20240702T063929Z
UID:1385-1718874000-1718879400@harburrealty.com
SUMMARY:Business Network International in Collierville
DESCRIPTION:Please come as MY GUEST. Just contact me for directions and updates.\n9:00AM – 10:30AM (Located on the ground floor of Collierville United Methodist Church near the Farmer’s Market\n(Bring your shopping bags to visit the Farmer’s Market\, too!)
URL:https://harburrealty.com/event/business-network-international-in-collierville-6/
LOCATION:Collierville United Methodist Church\, 454 West Poplar Avenue\, Collierville\, TN\, 38017\, United States
CATEGORIES:Sherry Harbur @ event
END:VEVENT
BEGIN:VEVENT
DTSTART;TZID=America/Chicago:20240606T090000
DTEND;TZID=America/Chicago:20240606T103000
DTSTAMP:20260421T113122
CREATED:20240605T140032Z
LAST-MODIFIED:20240702T063236Z
UID:1349-1717664400-1717669800@harburrealty.com
SUMMARY:Business Network International in Collierville
DESCRIPTION:Please come as MY GUEST. Just contact me for directions and updates.\n9:00AM – 10:30AM (Located on the ground floor of Collierville United Methodist Church near the Farmer’s Market\n(Bring your shopping bags to visit the Farmer’s Market\, too!)
URL:https://harburrealty.com/event/business-network-international-in-collierville/
LOCATION:Collierville United Methodist Church\, 454 West Poplar Avenue\, Collierville\, TN\, 38017\, United States
CATEGORIES:Sherry Harbur @ event
END:VEVENT
BEGIN:VEVENT
DTSTART;TZID=America/Chicago:20240508T113000
DTEND;TZID=America/Chicago:20240508T123000
DTSTAMP:20260421T113122
CREATED:20240206T201447Z
LAST-MODIFIED:20240402T160926Z
UID:1274-1715167800-1715171400@harburrealty.com
SUMMARY:Senior Fraud and Tips to Avoid it!
DESCRIPTION:Memphis Jewish Center –  Senior Fraud and Tips to Avoid it! \nLocation 6560 Poplar Ave\, Memphis TN.\nCall Sherry for more details on where to register\, it fills fast : 901-878-3308\n 
URL:https://harburrealty.com/event/senior-fraud-and-tips-to-avoid-it/
LOCATION:Memphis Jewish Center\, 6560 Poplar Ave\, Memphis\, TN\, 38138\, United States
CATEGORIES:Sherry Harbur @ event
END:VEVENT
BEGIN:VEVENT
DTSTART;TZID=America/Chicago:20240417T113000
DTEND;TZID=America/Chicago:20240417T130000
DTSTAMP:20260421T113122
CREATED:20240402T155612Z
LAST-MODIFIED:20240402T160606Z
UID:1324-1713353400-1713358800@harburrealty.com
SUMMARY:"How to Prevent Scams on Seniors" Burch Library
DESCRIPTION:Wednesday\, April 17th – 11:30 – 1:00 Lunch and Learn at the Collierville Library – You can let us know you are coming\, but you also need to register with the library: Lunch and Learn: How to Prevent Scams on Seniors – Library Events – Lucius E. and Elsie C. Burch\, Jr. Library \nJoin Sherry Harbur with Harbur Realty to learn how to identify and prevent online scams. Lunch will be provided. Registration is required. \nYou can let us know you are coming\, but you also need to register with the library:\nhttps://colliervillelibrary.libcal.com/event/11473936 \nDate:\nWednesday\, April 17\, 2024\nTime: 11:30am – 1:00pm\nTime Zone: Central Time – US & Canada (change)\nLocation: Halle Meeting Room\nCategories: Adult Program
URL:https://harburrealty.com/event/how-to-prevent-scams-on-seniors/
LOCATION:Lucius E. & Elsie C. Burch\, Jr. Library\, 501 Poplar View Pkwy\, Collierville\, TN\, 38017\, United States
CATEGORIES:Sherry Harbur @ event
END:VEVENT
END:VCALENDAR